BEGIN:VCALENDAR
VERSION:2.0
PRODID:-//Saint Luke&#039;s Parish - ECPv6.15.20//NONSGML v1.0//EN
CALSCALE:GREGORIAN
METHOD:PUBLISH
X-ORIGINAL-URL:https://www.saintlukesdarien.org
X-WR-CALDESC:Events for Saint Luke&#039;s Parish
REFRESH-INTERVAL;VALUE=DURATION:PT1H
X-Robots-Tag:noindex
X-PUBLISHED-TTL:PT1H
BEGIN:VTIMEZONE
TZID:America/New_York
BEGIN:DAYLIGHT
TZOFFSETFROM:-0500
TZOFFSETTO:-0400
TZNAME:EDT
DTSTART:20250309T070000
END:DAYLIGHT
BEGIN:STANDARD
TZOFFSETFROM:-0400
TZOFFSETTO:-0500
TZNAME:EST
DTSTART:20251102T060000
END:STANDARD
BEGIN:DAYLIGHT
TZOFFSETFROM:-0500
TZOFFSETTO:-0400
TZNAME:EDT
DTSTART:20260308T070000
END:DAYLIGHT
BEGIN:STANDARD
TZOFFSETFROM:-0400
TZOFFSETTO:-0500
TZNAME:EST
DTSTART:20261101T060000
END:STANDARD
BEGIN:DAYLIGHT
TZOFFSETFROM:-0500
TZOFFSETTO:-0400
TZNAME:EDT
DTSTART:20270314T070000
END:DAYLIGHT
BEGIN:STANDARD
TZOFFSETFROM:-0400
TZOFFSETTO:-0500
TZNAME:EST
DTSTART:20271107T060000
END:STANDARD
END:VTIMEZONE
BEGIN:VEVENT
DTSTART;TZID=America/New_York:20260409T070000
DTEND;TZID=America/New_York:20260409T080000
DTSTAMP:20260419T100935
CREATED:20250819T225552Z
LAST-MODIFIED:20260408T225553Z
UID:165102-1775718000-1775721600@www.saintlukesdarien.org
SUMMARY:Men's Breakfast
DESCRIPTION:Enjoy breakfast and fellowship at a local restaurant. \nContact Charles Jackson at jackson5redsox@gmail.com
URL:https://www.saintlukesdarien.org/event/mens-breakfast-20/
CATEGORIES:Parish Groups
END:VEVENT
BEGIN:VEVENT
DTSTART;TZID=America/New_York:20260409T080000
DTEND;TZID=America/New_York:20260409T083000
DTSTAMP:20260419T100935
CREATED:20251210T235654Z
LAST-MODIFIED:20260408T222556Z
UID:170409-1775721600-1775723400@www.saintlukesdarien.org
SUMMARY:Morning Prayer
DESCRIPTION:
URL:https://www.saintlukesdarien.org/event/morning-prayer-1174/
LOCATION:Education Building-1-Chapel (100)
CATEGORIES:Worship
END:VEVENT
BEGIN:VEVENT
DTSTART;TZID=America/New_York:20260409T093000
DTEND;TZID=America/New_York:20260409T103000
DTSTAMP:20260419T100935
CREATED:20250728T234155Z
LAST-MODIFIED:20260407T224111Z
UID:164123-1775727000-1775730600@www.saintlukesdarien.org
SUMMARY:SLPS Children's Chapel
DESCRIPTION:
URL:https://www.saintlukesdarien.org/event/slps-childrens-chapel-41/
LOCATION:Education Building-1-Chapel (100)
CATEGORIES:Parish School
END:VEVENT
BEGIN:VEVENT
DTSTART;TZID=America/New_York:20260409T110000
DTEND;TZID=America/New_York:20260409T123000
DTSTAMP:20260419T100935
CREATED:20260331T224136Z
LAST-MODIFIED:20260409T125645Z
UID:172200-1775732400-1775737800@www.saintlukesdarien.org
SUMMARY:Memorial Service for Craig M. Ferguson
DESCRIPTION:We offer our deepest condolences to the family of Craig M. Ferguson. \nTo view the livestream of the memorial service\, please click here. \nTo view the service leaflet for the memorial service\, please click here.
URL:https://www.saintlukesdarien.org/event/memorial-service-for-craig-m-ferguson/
LOCATION:Church-1-Church (400)
CATEGORIES:Special Services
END:VEVENT
BEGIN:VEVENT
DTSTART;TZID=America/New_York:20260409T121500
DTEND;TZID=America/New_York:20260409T134500
DTSTAMP:20260419T100935
CREATED:20260107T222547Z
LAST-MODIFIED:20260408T222552Z
UID:170923-1775736900-1775742300@www.saintlukesdarien.org
SUMMARY:MomsNext
DESCRIPTION:AUDACIOUS FAITH with Wendy Moore What if God is calling us to more than safety and comfort? Perhaps we could all be encouraged to get a little risky\, try new things\, and live with an audacious faith.
URL:https://www.saintlukesdarien.org/event/momsnext-58/
LOCATION:Anderson Youth & Community Center-1-AYCC (50)
CATEGORIES:Adult Programming
END:VEVENT
BEGIN:VEVENT
DTSTART;TZID=America/New_York:20260409T163000
DTEND;TZID=America/New_York:20260409T170000
DTSTAMP:20260419T100935
CREATED:20250819T232601Z
LAST-MODIFIED:20260408T235555Z
UID:165157-1775752200-1775754000@www.saintlukesdarien.org
SUMMARY:Bible Builders
DESCRIPTION:Thursdays from 4:30-5pm\, beginning September 11  \nA fun\, hands-on way to learn a story from the Bible.  For children also in the St. Nicholas Choir\, we will walk them to the choir room for their 5pm practice. 
URL:https://www.saintlukesdarien.org/event/bible-builders-24/
LOCATION:Education Building-3-Great Room (30)
CATEGORIES:Children's Ministries
END:VEVENT
BEGIN:VEVENT
DTSTART;TZID=America/New_York:20260409T170000
DTEND;TZID=America/New_York:20260409T180000
DTSTAMP:20260419T100935
CREATED:20250820T231052Z
LAST-MODIFIED:20260408T234049Z
UID:165420-1775754000-1775757600@www.saintlukesdarien.org
SUMMARY:Community Supper
DESCRIPTION:This year Saint Luke’s celebrates our 20th year of Community Supper – a weekly $1 dinner for parishioners and community members alike.  Beginning September 11\, weekly on Thursdays from 5-6pm. Everyone is welcome for dinner\, and new volunteers are welcome! We especially welcome volunteers of all ages to serve Thursdays from 4:45-6:30pm.  To sign up\, Contact volunteer coordinator\, Jen Kepner at jkepner7@gmail.com. 
URL:https://www.saintlukesdarien.org/event/community-supper-68/
LOCATION:Education Building-1-Kitchen (15)\, Education Building-1-Parish Hall (200)
CATEGORIES:Outreach
END:VEVENT
BEGIN:VEVENT
DTSTART;TZID=America/New_York:20260409T170000
DTEND;TZID=America/New_York:20260409T183000
DTSTAMP:20260419T100935
CREATED:20250715T235623Z
LAST-MODIFIED:20260408T231101Z
UID:163844-1775754000-1775759400@www.saintlukesdarien.org
SUMMARY:AA Meeting
DESCRIPTION:Contact: \nJohn Corcoran\n203-561-2624\nContact:\nJane Sullivan\n203-461-1364
URL:https://www.saintlukesdarien.org/event/aa-meeting-80/
LOCATION:Office Building-1-Terrace-B (20)\, Office Building-1-Terrace-A (20)
CATEGORIES:Outside Groups
END:VEVENT
END:VCALENDAR