BEGIN:VCALENDAR
VERSION:2.0
PRODID:-//Saint Luke&#039;s Parish - ECPv6.15.20//NONSGML v1.0//EN
CALSCALE:GREGORIAN
METHOD:PUBLISH
X-WR-CALNAME:Saint Luke&#039;s Parish
X-ORIGINAL-URL:https://www.saintlukesdarien.org
X-WR-CALDESC:Events for Saint Luke&#039;s Parish
REFRESH-INTERVAL;VALUE=DURATION:PT1H
X-Robots-Tag:noindex
X-PUBLISHED-TTL:PT1H
BEGIN:VTIMEZONE
TZID:America/New_York
BEGIN:DAYLIGHT
TZOFFSETFROM:-0500
TZOFFSETTO:-0400
TZNAME:EDT
DTSTART:20250309T070000
END:DAYLIGHT
BEGIN:STANDARD
TZOFFSETFROM:-0400
TZOFFSETTO:-0500
TZNAME:EST
DTSTART:20251102T060000
END:STANDARD
BEGIN:DAYLIGHT
TZOFFSETFROM:-0500
TZOFFSETTO:-0400
TZNAME:EDT
DTSTART:20260308T070000
END:DAYLIGHT
BEGIN:STANDARD
TZOFFSETFROM:-0400
TZOFFSETTO:-0500
TZNAME:EST
DTSTART:20261101T060000
END:STANDARD
BEGIN:DAYLIGHT
TZOFFSETFROM:-0500
TZOFFSETTO:-0400
TZNAME:EDT
DTSTART:20270314T070000
END:DAYLIGHT
BEGIN:STANDARD
TZOFFSETFROM:-0400
TZOFFSETTO:-0500
TZNAME:EST
DTSTART:20271107T060000
END:STANDARD
END:VTIMEZONE
BEGIN:VEVENT
DTSTART;TZID=America/New_York:20260421T080000
DTEND;TZID=America/New_York:20260421T083000
DTSTAMP:20260421T133924
CREATED:20251210T235700Z
LAST-MODIFIED:20260420T235550Z
UID:170417-1776758400-1776760200@www.saintlukesdarien.org
SUMMARY:Morning Prayer
DESCRIPTION:
URL:https://www.saintlukesdarien.org/event/morning-prayer-1182/
LOCATION:Education Building-1-Chapel (100)
CATEGORIES:Worship
END:VEVENT
BEGIN:VEVENT
DTSTART;TZID=America/New_York:20260421T090000
DTEND;TZID=America/New_York:20260421T130000
DTSTAMP:20260421T133924
CREATED:20250630T224053Z
LAST-MODIFIED:20260420T234041Z
UID:163515-1776762000-1776776400@www.saintlukesdarien.org
SUMMARY:SLPS Darien Nature Center
DESCRIPTION:
URL:https://www.saintlukesdarien.org/event/slps-darien-nature-center-41/
LOCATION:Education Building-1-Parish Hall (200)
CATEGORIES:Parish School
END:VEVENT
END:VCALENDAR