BEGIN:VCALENDAR
VERSION:2.0
PRODID:-//Saint Luke&#039;s Parish - ECPv6.15.20//NONSGML v1.0//EN
CALSCALE:GREGORIAN
METHOD:PUBLISH
X-WR-CALNAME:Saint Luke&#039;s Parish
X-ORIGINAL-URL:https://www.saintlukesdarien.org
X-WR-CALDESC:Events for Saint Luke&#039;s Parish
REFRESH-INTERVAL;VALUE=DURATION:PT1H
X-Robots-Tag:noindex
X-PUBLISHED-TTL:PT1H
BEGIN:VTIMEZONE
TZID:America/New_York
BEGIN:DAYLIGHT
TZOFFSETFROM:-0500
TZOFFSETTO:-0400
TZNAME:EDT
DTSTART:20240310T070000
END:DAYLIGHT
BEGIN:STANDARD
TZOFFSETFROM:-0400
TZOFFSETTO:-0500
TZNAME:EST
DTSTART:20241103T060000
END:STANDARD
BEGIN:DAYLIGHT
TZOFFSETFROM:-0500
TZOFFSETTO:-0400
TZNAME:EDT
DTSTART:20250309T070000
END:DAYLIGHT
BEGIN:STANDARD
TZOFFSETFROM:-0400
TZOFFSETTO:-0500
TZNAME:EST
DTSTART:20251102T060000
END:STANDARD
BEGIN:DAYLIGHT
TZOFFSETFROM:-0500
TZOFFSETTO:-0400
TZNAME:EDT
DTSTART:20260308T070000
END:DAYLIGHT
BEGIN:STANDARD
TZOFFSETFROM:-0400
TZOFFSETTO:-0500
TZNAME:EST
DTSTART:20261101T060000
END:STANDARD
END:VTIMEZONE
BEGIN:VTIMEZONE
TZID:America/New_York
BEGIN:DAYLIGHT
TZOFFSETFROM:-0500
TZOFFSETTO:-0400
TZNAME:EDT
DTSTART:20240310T070000
END:DAYLIGHT
BEGIN:STANDARD
TZOFFSETFROM:-0400
TZOFFSETTO:-0500
TZNAME:EST
DTSTART:20241103T060000
END:STANDARD
BEGIN:DAYLIGHT
TZOFFSETFROM:-0500
TZOFFSETTO:-0400
TZNAME:EDT
DTSTART:20250309T070000
END:DAYLIGHT
BEGIN:STANDARD
TZOFFSETFROM:-0400
TZOFFSETTO:-0500
TZNAME:EST
DTSTART:20251102T060000
END:STANDARD
BEGIN:DAYLIGHT
TZOFFSETFROM:-0500
TZOFFSETTO:-0400
TZNAME:EDT
DTSTART:20260308T070000
END:DAYLIGHT
BEGIN:STANDARD
TZOFFSETFROM:-0400
TZOFFSETTO:-0500
TZNAME:EST
DTSTART:20261101T060000
END:STANDARD
END:VTIMEZONE
BEGIN:VEVENT
DTSTART;TZID=America/New_York:20250517T080000
DTEND;TZID=America/New_York:20250517T160000
DTSTAMP:20260419T102625
CREATED:20250515T231112Z
LAST-MODIFIED:20250516T235538Z
UID:162168-1747468800-1747497600@www.saintlukesdarien.org
SUMMARY:HomeFront
DESCRIPTION:
URL:https://www.saintlukesdarien.org/event/homefront-4/
CATEGORIES:Outreach
END:VEVENT
BEGIN:VEVENT
DTSTART;TZID=America/New_York:20250517T080000
DTEND;TZID=America/New_York:20250517T170000
DTSTAMP:20260419T102625
CREATED:20250505T001914Z
LAST-MODIFIED:20250505T002034Z
UID:162051-1747468800-1747501200@www.saintlukesdarien.org
SUMMARY:HomeFront Parish Work Day
DESCRIPTION:Volunteer with our Spring HomeFront Project \nSaturday\, May 17 | All-day project\, with shifts to suit your schedule \nPitch in on our Spring HomeFront project! We will work hard and have fun helping a nearby family with critical home repairs that would otherwise be un-affordable.  \nWe welcome all who are willing to lend a hand\, from kids to seniors!  \nContact Charlie at charlie.koons@gmail.com or Blaine at blainehurty@gmail.com to sign up!
URL:https://www.saintlukesdarien.org/event/homefront-parish-work-day/
CATEGORIES:Community,Featured,Outreach
ATTACH;FMTTYPE=image/jpeg:https://www.saintlukesdarien.org/wp-content/uploads/2023/09/image14-rotated-e1694795372399.jpeg
END:VEVENT
BEGIN:VEVENT
DTSTART;TZID=America/New_York:20250601T143000
DTEND;TZID=America/New_York:20250601T180000
DTSTAMP:20260419T102625
CREATED:20250123T235651Z
LAST-MODIFIED:20250531T234035Z
UID:160708-1748788200-1748800800@www.saintlukesdarien.org
SUMMARY:Pacific House
DESCRIPTION:  PACIFIC HOUSEWe prepare a meal the first Sunday of each month (2/2\, 3/2\, 4/6\, 5/4\, 6/1\, 7/6\, 8/3\, 9/7\, 10/5\, 11/2\, 12/7) at Saint Luke’s and then serve at Pacific House\, a men’s shelter in Stamford. Multiple volunteer opportunities and time slots are available with this ministry. Questions? Email John Wall at johnjwall526@gmail.com.  
URL:https://www.saintlukesdarien.org/event/pacific-house-19/
CATEGORIES:Outreach
END:VEVENT
BEGIN:VEVENT
DTSTART;TZID=America/New_York:20250602T190000
DTEND;TZID=America/New_York:20250602T200000
DTSTAMP:20260419T102625
CREATED:20250429T234117Z
LAST-MODIFIED:20250602T235539Z
UID:161973-1748890800-1748894400@www.saintlukesdarien.org
SUMMARY:Outreach Meeting
DESCRIPTION:
URL:https://www.saintlukesdarien.org/event/outreach-meeting-2/
LOCATION:Education Building-1-Taylor Room (25)
CATEGORIES:Outreach
END:VEVENT
BEGIN:VEVENT
DTSTART;TZID=America/New_York:20250604T130000
DTEND;TZID=America/New_York:20250604T190000
DTSTAMP:20260419T102625
CREATED:20250129T231119Z
LAST-MODIFIED:20250603T235538Z
UID:160775-1749042000-1749063600@www.saintlukesdarien.org
SUMMARY:Laundry Love
DESCRIPTION:Volunteer with Laundry Love \nHelp those in need get their laundry done! The first Wednesday of every month. Two hour shifts available between 1pm and 7pm\, working with parishioners from other local Episcopal parishes. \n2025 dates: 1/1\, 2/5\, 3/5\, 4/9. 5/7\, 6/4\, 7/2\, 8/6\, 9/3\, 10/1\, 11/5\, 12/3)\nAddress: Giant Laundry East Norwalk\, 233 East Avenue\, Norwalk\, CT\nContact: Fred Elliott elliottfc.07@gmail.com or Schuyler Morris at schuylermorris@yahoo.com.
URL:https://www.saintlukesdarien.org/event/laundry-love-20/
CATEGORIES:Featured,Outreach
ATTACH;FMTTYPE=image/png:https://www.saintlukesdarien.org/wp-content/uploads/2025/01/Blue-Yellow-Colorful-hello-Sunshine-Instagram-Story-1600-x-900-px.png
END:VEVENT
BEGIN:VEVENT
DTSTART;TZID=America/New_York:20250619T190000
DTEND;TZID=America/New_York:20250619T203000
DTSTAMP:20260419T102625
CREATED:20250605T231043Z
LAST-MODIFIED:20250619T181045Z
UID:162543-1750359600-1750365000@www.saintlukesdarien.org
SUMMARY:Run with the Saints Committee Meeting
DESCRIPTION:
URL:https://www.saintlukesdarien.org/event/run-with-the-saints-committee-meeting/
LOCATION:Office Building-1-Terrace-B (20)\, Office Building-1-Terrace-A (20)
CATEGORIES:Outreach
END:VEVENT
BEGIN:VEVENT
DTSTART;TZID=America/New_York:20250626T173000
DTEND;TZID=America/New_York:20250626T200000
DTSTAMP:20260419T102625
CREATED:20250611T232541Z
LAST-MODIFIED:20250625T235554Z
UID:162687-1750959000-1750968000@www.saintlukesdarien.org
SUMMARY:Prince of Egypt Family Movie Night
DESCRIPTION:
URL:https://www.saintlukesdarien.org/event/prince-of-egypt-family-movie-night/
LOCATION:Anderson Youth & Community Center-1-AYCC (50)
CATEGORIES:Outreach
END:VEVENT
BEGIN:VEVENT
DTSTART;TZID=America/New_York:20250702T130000
DTEND;TZID=America/New_York:20250702T190000
DTSTAMP:20260419T102625
CREATED:20250129T231120Z
LAST-MODIFIED:20250701T234044Z
UID:160776-1751461200-1751482800@www.saintlukesdarien.org
SUMMARY:Laundry Love
DESCRIPTION:Volunteer with Laundry Love \nHelp those in need get their laundry done! The first Wednesday of every month. Two hour shifts available between 1pm and 7pm\, working with parishioners from other local Episcopal parishes. \n2025 dates: 1/1\, 2/5\, 3/5\, 4/9. 5/7\, 6/4\, 7/2\, 8/6\, 9/3\, 10/1\, 11/5\, 12/3)\nAddress: Giant Laundry East Norwalk\, 233 East Avenue\, Norwalk\, CT\nContact: Fred Elliott elliottfc.07@gmail.com or Schuyler Morris at schuylermorris@yahoo.com.
URL:https://www.saintlukesdarien.org/event/laundry-love-21/
CATEGORIES:Featured,Outreach
ATTACH;FMTTYPE=image/png:https://www.saintlukesdarien.org/wp-content/uploads/2025/01/Blue-Yellow-Colorful-hello-Sunshine-Instagram-Story-1600-x-900-px.png
END:VEVENT
BEGIN:VEVENT
DTSTART;TZID=America/New_York:20250706T143000
DTEND;TZID=America/New_York:20250706T180000
DTSTAMP:20260419T102625
CREATED:20250123T235651Z
LAST-MODIFIED:20250705T234119Z
UID:160709-1751812200-1751824800@www.saintlukesdarien.org
SUMMARY:Pacific House
DESCRIPTION:  PACIFIC HOUSE\nWe prepare a meal the first Sunday of each month (2/2\, 3/2\, 4/6\, 5/4\, 6/1\, 7/6\, 8/3\, 9/7\, 10/5\, 11/2\, 12/7) at Saint Luke’s and then serve at Pacific House\, a men’s shelter in Stamford. Multiple volunteer opportunities and time slots are available with this ministry. \nQuestions? Email John Wall at johnjwall526@gmail.com.
URL:https://www.saintlukesdarien.org/event/pacific-house-20/
CATEGORIES:Featured,Outreach
ATTACH;FMTTYPE=image/jpeg:https://www.saintlukesdarien.org/wp-content/uploads/2023/10/saint-lukes-pacific-house_9.29.15-scaled-e1699003548267.jpg
END:VEVENT
BEGIN:VEVENT
DTSTART;TZID=America/New_York:20250707T190000
DTEND;TZID=America/New_York:20250707T200000
DTSTAMP:20260419T102625
CREATED:20250429T234118Z
LAST-MODIFIED:20250707T235541Z
UID:161974-1751914800-1751918400@www.saintlukesdarien.org
SUMMARY:Outreach Meeting
DESCRIPTION:
URL:https://www.saintlukesdarien.org/event/outreach-meeting-3/
LOCATION:Education Building-1-Taylor Room (25)
CATEGORIES:Outreach
END:VEVENT
BEGIN:VEVENT
DTSTART;TZID=America/New_York:20250730T190000
DTEND;TZID=America/New_York:20250730T200000
DTSTAMP:20260419T102625
CREATED:20250730T235558Z
LAST-MODIFIED:20250730T235558Z
UID:164154-1753902000-1753905600@www.saintlukesdarien.org
SUMMARY:Run with the Saints Meeting
DESCRIPTION:
URL:https://www.saintlukesdarien.org/event/run-with-the-saints-meeting/
LOCATION:Office Building-1-Terrace-B (20)\, Office Building-1-Terrace-A (20)
CATEGORIES:Outreach
END:VEVENT
BEGIN:VEVENT
DTSTART;TZID=America/New_York:20250803T143000
DTEND;TZID=America/New_York:20250803T180000
DTSTAMP:20260419T102625
CREATED:20250123T235651Z
LAST-MODIFIED:20250802T231041Z
UID:160710-1754231400-1754244000@www.saintlukesdarien.org
SUMMARY:Pacific House
DESCRIPTION:  PACIFIC HOUSE\nWe prepare a meal the first Sunday of each month (2/2\, 3/2\, 4/6\, 5/4\, 6/1\, 7/6\, 8/3\, 9/7\, 10/5\, 11/2\, 12/7) at Saint Luke’s and then serve at Pacific House\, a men’s shelter in Stamford. Multiple volunteer opportunities and time slots are available with this ministry. Questions? Email John Wall at johnjwall526@gmail.com.
URL:https://www.saintlukesdarien.org/event/pacific-house-21/
CATEGORIES:Outreach
ATTACH;FMTTYPE=image/png:https://www.saintlukesdarien.org/wp-content/uploads/2025/01/Pacific-House.png
END:VEVENT
BEGIN:VEVENT
DTSTART;TZID=America/New_York:20250806T130000
DTEND;TZID=America/New_York:20250806T190000
DTSTAMP:20260419T102625
CREATED:20250129T231120Z
LAST-MODIFIED:20250805T231041Z
UID:160777-1754485200-1754506800@www.saintlukesdarien.org
SUMMARY:Laundry Love
DESCRIPTION:Volunteer with Laundry Love \nHelp those in need get their laundry done! The first Wednesday of every month. Two hour shifts available between 1pm and 7pm\, working with parishioners from other local Episcopal parishes. \n2025 dates: 1/1\, 2/5\, 3/5\, 4/9. 5/7\, 6/4\, 7/2\, 8/6\, 9/3\, 10/1\, 11/5\, 12/3)\nAddress: Giant Laundry East Norwalk\, 233 East Avenue\, Norwalk\, CT\nContact: Fred Elliott elliottfc.07@gmail.com or Schuyler Morris at schuylermorris@yahoo.com.
URL:https://www.saintlukesdarien.org/event/laundry-love-22/
CATEGORIES:Featured,Outreach
ATTACH;FMTTYPE=image/png:https://www.saintlukesdarien.org/wp-content/uploads/2025/01/Blue-Yellow-Colorful-hello-Sunshine-Instagram-Story-1600-x-900-px.png
END:VEVENT
BEGIN:VEVENT
DTSTART;TZID=America/New_York:20250826T190000
DTEND;TZID=America/New_York:20250826T200000
DTSTAMP:20260419T102625
CREATED:20250825T232739Z
LAST-MODIFIED:20250826T234036Z
UID:165484-1756234800-1756238400@www.saintlukesdarien.org
SUMMARY:Taste of Saint Luke's Planning Meeting
DESCRIPTION:
URL:https://www.saintlukesdarien.org/event/taste-of-saint-lukes-planning-meeting/
LOCATION:Office Building-1-Terrace-B (20)\, Office Building-1-Terrace-A (20)
CATEGORIES:Outreach
END:VEVENT
BEGIN:VEVENT
DTSTART;TZID=America/New_York:20250903T130000
DTEND;TZID=America/New_York:20250903T190000
DTSTAMP:20260419T102625
CREATED:20250129T231121Z
LAST-MODIFIED:20250902T232540Z
UID:160778-1756904400-1756926000@www.saintlukesdarien.org
SUMMARY:Laundry Love
DESCRIPTION:Volunteer with Laundry Love \nHelp those in need get their laundry done! The first Wednesday of every month. Two hour shifts available between 1pm and 7pm\, working with parishioners from other local Episcopal parishes. \n2025 dates: 1/1\, 2/5\, 3/5\, 4/9. 5/7\, 6/4\, 7/2\, 8/6\, 9/3\, 10/1\, 11/5\, 12/3)\nAddress: Giant Laundry East Norwalk\, 233 East Avenue\, Norwalk\, CT\nContact: Fred Elliott elliottfc.07@gmail.com or Schuyler Morris at schuylermorris@yahoo.com.
URL:https://www.saintlukesdarien.org/event/laundry-love-23/
CATEGORIES:Featured,Outreach
ATTACH;FMTTYPE=image/png:https://www.saintlukesdarien.org/wp-content/uploads/2025/01/Untitled-design-6.png
END:VEVENT
BEGIN:VEVENT
DTSTART;TZID=America/New_York:20250903T190000
DTEND;TZID=America/New_York:20250903T200000
DTSTAMP:20260419T102625
CREATED:20250429T234119Z
LAST-MODIFIED:20250903T234041Z
UID:161975-1756926000-1756929600@www.saintlukesdarien.org
SUMMARY:Outreach Meeting
DESCRIPTION:
URL:https://www.saintlukesdarien.org/event/outreach-meeting-4/
LOCATION:Office Building-1-Terrace-A (20)\, Office Building-1-Terrace-B (20)
CATEGORIES:Outreach
END:VEVENT
BEGIN:VEVENT
DTSTART;TZID=America/New_York:20250904T160000
DTEND;TZID=America/New_York:20250904T170000
DTSTAMP:20260419T102625
CREATED:20250902T232540Z
LAST-MODIFIED:20250903T234041Z
UID:165582-1757001600-1757005200@www.saintlukesdarien.org
SUMMARY:Community Supper Meeting
DESCRIPTION:
URL:https://www.saintlukesdarien.org/event/community-supper-meeting-2/
LOCATION:Education Building-1-Kitchen (15)\, Education Building-1-Parish Hall (200)
CATEGORIES:Outreach
END:VEVENT
BEGIN:VEVENT
DTSTART;TZID=America/New_York:20250907T143000
DTEND;TZID=America/New_York:20250907T180000
DTSTAMP:20260419T102625
CREATED:20250123T235651Z
LAST-MODIFIED:20250906T235540Z
UID:160711-1757255400-1757268000@www.saintlukesdarien.org
SUMMARY:Pacific House
DESCRIPTION:PACIFIC HOUSE\nHelp prepare a meal the first Sunday of each month (2/2\, 3/2\, 4/6\, 5/4\, 6/1\, 7/6\, 8/3\, 9/7\, 10/5\, 11/2\, 12/7) at Saint Luke’s and then serve at Pacific House\, a men’s shelter in Stamford. \nMultiple volunteer opportunities and time slots are available with this ministry. \nQuestions? Email John Wall at johnjwall526@gmail.com.
URL:https://www.saintlukesdarien.org/event/pacific-house-22/
CATEGORIES:Featured,Outreach
ATTACH;FMTTYPE=image/png:https://www.saintlukesdarien.org/wp-content/uploads/2025/01/Pacific-House.png
END:VEVENT
BEGIN:VEVENT
DTSTART;TZID=America/New_York:20250910T153000
DTEND;TZID=America/New_York:20250910T170000
DTSTAMP:20260419T102625
CREATED:20250818T235626Z
LAST-MODIFIED:20250909T232557Z
UID:164995-1757518200-1757523600@www.saintlukesdarien.org
SUMMARY:TOUR Meeting
DESCRIPTION:
URL:https://www.saintlukesdarien.org/event/tour-meeting-12/
LOCATION:Office Building-1-Terrace-B (20)\, Office Building-1-Terrace-A (20)
CATEGORIES:Outreach
END:VEVENT
BEGIN:VEVENT
DTSTART;TZID=America/New_York:20250911T170000
DTEND;TZID=America/New_York:20250911T180000
DTSTAMP:20260419T102625
CREATED:20250801T231048Z
LAST-MODIFIED:20250910T234036Z
UID:164376-1757610000-1757613600@www.saintlukesdarien.org
SUMMARY:Community Supper
DESCRIPTION:This year Saint Luke’s celebrates our 20th year of Community Supper – a weekly $1 dinner for parishioners and community members alike. \nBeginning September 11\, weekly on Thursdays from 5-6pm. Everyone is welcome for dinner\, and new volunteers are welcome! \nWe especially welcome volunteers of all ages to serve Thursdays from 4:45-6:30pm. \nClick here to sign up! \nWant to do more or find other ways to help out? Contact volunteer coordinator\, Jen Kepner at jkepner7@gmail.com.
URL:https://www.saintlukesdarien.org/event/community-supper/
LOCATION:Education Building-1-Kitchen (15)\, Education Building-1-Parish Hall (200)
CATEGORIES:Community,Featured,Outreach
ATTACH;FMTTYPE=image/jpeg:https://www.saintlukesdarien.org/wp-content/uploads/2024/07/Community-Supper.jpg
END:VEVENT
BEGIN:VEVENT
DTSTART;TZID=America/New_York:20250914T110000
DTEND;TZID=America/New_York:20250914T120000
DTSTAMP:20260419T102625
CREATED:20250912T112554Z
LAST-MODIFIED:20250912T112554Z
UID:165700-1757847600-1757851200@www.saintlukesdarien.org
SUMMARY:Tour the Unity Garden
DESCRIPTION:Unity Garden Tour\nAfter 10am worship – in the Garden behind the Playground \nDid you know that the Unity Garden\, right here on the church campus\, donates about 300 pounds of fresh\, organic produce to the P2P Food Pantry each year? As part of the Outreach Fair\, garden volunteers aka “the Garden Gals” would love to show you around this peaceful – and productive! – oasis. \nSo please stroll down behind the playground\, see what’s growing\, and grab a small packet of seeds!
URL:https://www.saintlukesdarien.org/event/tour-the-unity-garden/
LOCATION:Unity Garden
CATEGORIES:Featured,Outreach
ATTACH;FMTTYPE=image/jpeg:https://www.saintlukesdarien.org/wp-content/uploads/2024/04/Youth-Garden-Volunteers-scaled-e1713447991848.jpeg
END:VEVENT
BEGIN:VEVENT
DTSTART;TZID=America/New_York:20250914T111500
DTEND;TZID=America/New_York:20250914T120000
DTSTAMP:20260419T102625
CREATED:20250801T231049Z
LAST-MODIFIED:20250913T235538Z
UID:164377-1757848500-1757851200@www.saintlukesdarien.org
SUMMARY:Outreach Fair in the front circle
DESCRIPTION:Find out all about our Outreach Ministries\, Saint Luke’s partnerships which help us bring God’s love out into our community and around the world. \nWe’ll be on the front lawn after 10am worship with sweet treats to sample and volunteers from each Ministry who will be on hand to share the mission\, contributions\, and volunteer opportunities available with each partner. \nPlease check out our Outreach Partners – you’re sure to find a cause and way to contribute that speaks to you!
URL:https://www.saintlukesdarien.org/event/outreach-fair/
LOCATION:Education Building – Front Circle
CATEGORIES:Featured,Outreach
ATTACH;FMTTYPE=image/png:https://www.saintlukesdarien.org/wp-content/uploads/2025/01/Pacific-House.png
END:VEVENT
BEGIN:VEVENT
DTSTART;TZID=America/New_York:20250918T170000
DTEND;TZID=America/New_York:20250918T180000
DTSTAMP:20260419T102625
CREATED:20250801T231049Z
LAST-MODIFIED:20250916T235546Z
UID:164378-1758214800-1758218400@www.saintlukesdarien.org
SUMMARY:Community Supper
DESCRIPTION:This year Saint Luke’s celebrates our 20th year of Community Supper – a weekly $1 dinner for parishioners and community members alike.  Beginning September 11\, weekly on Thursdays from 5-6pm. Everyone is welcome for dinner\, and new volunteers are welcome! We especially welcome volunteers of all ages to serve Thursdays from 4:45-6:30pm.  To sign up\, Contact volunteer coordinator\, Jen Kepner at jkepner7@gmail.com. 
URL:https://www.saintlukesdarien.org/event/community-supper-41/
LOCATION:Education Building-1-Kitchen (15)\, Education Building-1-Parish Hall (200)
CATEGORIES:Outreach
END:VEVENT
BEGIN:VEVENT
DTSTART;TZID=America/New_York:20250921T123000
DTEND;TZID=America/New_York:20250921T153000
DTSTAMP:20260419T102625
CREATED:20250902T232541Z
LAST-MODIFIED:20250920T234051Z
UID:165583-1758457800-1758468600@www.saintlukesdarien.org
SUMMARY:TOUR Leaders Retreat
DESCRIPTION:
URL:https://www.saintlukesdarien.org/event/tour-leaders-retreat/
LOCATION:Education Building-1-Taylor Room (25)
CATEGORIES:Outreach
END:VEVENT
BEGIN:VEVENT
DTSTART;TZID=America/New_York:20250922T190000
DTEND;TZID=America/New_York:20250922T203000
DTSTAMP:20260419T102625
CREATED:20250908T231038Z
LAST-MODIFIED:20250921T235550Z
UID:165652-1758567600-1758573000@www.saintlukesdarien.org
SUMMARY:Run with the Saints Meeting
DESCRIPTION:
URL:https://www.saintlukesdarien.org/event/run-with-the-saints-meeting-2/
LOCATION:Anderson Youth & Community Center-1-AYCC (50)
CATEGORIES:Outreach
END:VEVENT
BEGIN:VEVENT
DTSTART;TZID=America/New_York:20250923T180000
DTEND;TZID=America/New_York:20250923T193000
DTSTAMP:20260419T102625
CREATED:20250717T234042Z
LAST-MODIFIED:20250923T231152Z
UID:163904-1758650400-1758655800@www.saintlukesdarien.org
SUMMARY:Garden Gala Sourdough Class
DESCRIPTION:
URL:https://www.saintlukesdarien.org/event/garden-gala-sourdough-class/
LOCATION:Education Building-1-Kitchen (15)
CATEGORIES:Outreach
END:VEVENT
BEGIN:VEVENT
DTSTART;TZID=America/New_York:20250925T170000
DTEND;TZID=America/New_York:20250925T180000
DTSTAMP:20260419T102625
CREATED:20250801T231049Z
LAST-MODIFIED:20250924T232537Z
UID:164379-1758819600-1758823200@www.saintlukesdarien.org
SUMMARY:Community Supper
DESCRIPTION:This year Saint Luke’s celebrates our 20th year of Community Supper – a weekly $1 dinner for parishioners and community members alike.  Beginning September 11\, weekly on Thursdays from 5-6pm. Everyone is welcome for dinner\, and new volunteers are welcome! We especially welcome volunteers of all ages to serve Thursdays from 4:45-6:30pm.  To sign up\, Contact volunteer coordinator\, Jen Kepner at jkepner7@gmail.com. 
URL:https://www.saintlukesdarien.org/event/community-supper-42/
LOCATION:Education Building-1-Kitchen (15)\, Education Building-1-Parish Hall (200)
CATEGORIES:Outreach
END:VEVENT
BEGIN:VEVENT
DTSTART;TZID=America/New_York:20251001T130000
DTEND;TZID=America/New_York:20251001T190000
DTSTAMP:20260419T102625
CREATED:20250129T231121Z
LAST-MODIFIED:20250924T232537Z
UID:160779-1759323600-1759345200@www.saintlukesdarien.org
SUMMARY:Laundry Love
DESCRIPTION:Laundry Love |  One of our greatest commandments from Jesus was to love our neighbor as ourselves. With Laundry Love we strive to assist those that have been lost or marginalized by providing financial support\, awareness and a comforting and safe space for people to do their laundry. We believe that everyone should have clean clothes\, clean bedding and be able to step out with dignity! The first Wednesday of every month (9/3\, 10/1\, 11/5\, 12/3); two hour shifts between 1-7pm) with parishioners from other local Episcopal parishes. Contact John Wall johnjwall526@gmail.com or Schuyler Morris at schuylermorris@yahoo.com.
URL:https://www.saintlukesdarien.org/event/laundry-love-24/
CATEGORIES:Outreach
END:VEVENT
BEGIN:VEVENT
DTSTART;TZID=America/New_York:20251002T170000
DTEND;TZID=America/New_York:20251002T180000
DTSTAMP:20260419T102625
CREATED:20250801T231050Z
LAST-MODIFIED:20250924T232537Z
UID:164380-1759424400-1759428000@www.saintlukesdarien.org
SUMMARY:Community Supper
DESCRIPTION:This year Saint Luke’s celebrates our 20th year of Community Supper – a weekly $1 dinner for parishioners and community members alike.  Beginning September 11\, weekly on Thursdays from 5-6pm. Everyone is welcome for dinner\, and new volunteers are welcome! We especially welcome volunteers of all ages to serve Thursdays from 4:45-6:30pm.  To sign up\, Contact volunteer coordinator\, Jen Kepner at jkepner7@gmail.com. 
URL:https://www.saintlukesdarien.org/event/community-supper-43/
LOCATION:Education Building-1-Kitchen (15)\, Education Building-1-Parish Hall (200)
CATEGORIES:Outreach
END:VEVENT
BEGIN:VEVENT
DTSTART;TZID=America/New_York:20251005T143000
DTEND;TZID=America/New_York:20251005T180000
DTSTAMP:20260419T102625
CREATED:20250123T235652Z
LAST-MODIFIED:20250924T232537Z
UID:160712-1759674600-1759687200@www.saintlukesdarien.org
SUMMARY:Pacific House
DESCRIPTION:Pacific House |  We prepare a meal the first Sunday of each month (9/7\, 10/5\, 11/2\, 12/7) at Saint Luke’s and then serve at Pacific House\, a men’s shelter in Stamford as well as their sister location in Norwalk. Cooking is generally done at 3:00pm in the Parish Hall kitchen at Saint Luke’s. Multiple volunteer opportunities and time slots are available. Want to help? Email Pam Deming at pamdeming@icloud.com.
URL:https://www.saintlukesdarien.org/event/pacific-house-23/
CATEGORIES:Outreach
END:VEVENT
END:VCALENDAR