BEGIN:VCALENDAR
VERSION:2.0
PRODID:-//Saint Luke&#039;s Parish - ECPv6.15.20//NONSGML v1.0//EN
CALSCALE:GREGORIAN
METHOD:PUBLISH
X-ORIGINAL-URL:https://www.saintlukesdarien.org
X-WR-CALDESC:Events for Saint Luke&#039;s Parish
REFRESH-INTERVAL;VALUE=DURATION:PT1H
X-Robots-Tag:noindex
X-PUBLISHED-TTL:PT1H
BEGIN:VTIMEZONE
TZID:America/New_York
BEGIN:DAYLIGHT
TZOFFSETFROM:-0500
TZOFFSETTO:-0400
TZNAME:EDT
DTSTART:20250309T070000
END:DAYLIGHT
BEGIN:STANDARD
TZOFFSETFROM:-0400
TZOFFSETTO:-0500
TZNAME:EST
DTSTART:20251102T060000
END:STANDARD
BEGIN:DAYLIGHT
TZOFFSETFROM:-0500
TZOFFSETTO:-0400
TZNAME:EDT
DTSTART:20260308T070000
END:DAYLIGHT
BEGIN:STANDARD
TZOFFSETFROM:-0400
TZOFFSETTO:-0500
TZNAME:EST
DTSTART:20261101T060000
END:STANDARD
BEGIN:DAYLIGHT
TZOFFSETFROM:-0500
TZOFFSETTO:-0400
TZNAME:EDT
DTSTART:20270314T070000
END:DAYLIGHT
BEGIN:STANDARD
TZOFFSETFROM:-0400
TZOFFSETTO:-0500
TZNAME:EST
DTSTART:20271107T060000
END:STANDARD
END:VTIMEZONE
BEGIN:VEVENT
DTSTART;TZID=America/New_York:20260418T090000
DTEND;TZID=America/New_York:20260418T103000
DTSTAMP:20260424T034550
CREATED:20260123T231155Z
LAST-MODIFIED:20260417T230038Z
UID:171187-1776502800-1776508200@www.saintlukesdarien.org
SUMMARY:Al Anon Meeting
DESCRIPTION:For more information\, contact DeeDee Crouch at dmcrouch@gmail.com
URL:https://www.saintlukesdarien.org/event/al-anon-meeting-136/
LOCATION:Office Building-1-Terrace-B (20)\, Office Building-1-Terrace-A (20)
CATEGORIES:Outside Groups
END:VEVENT
BEGIN:VEVENT
DTSTART;TZID=America/New_York:20260420T193000
DTEND;TZID=America/New_York:20260420T203000
DTSTAMP:20260424T034550
CREATED:20251124T225624Z
LAST-MODIFIED:20251124T225646Z
UID:170118-1776713400-1776717000@www.saintlukesdarien.org
SUMMARY:Monday Night Al-Anon Children *
DESCRIPTION:For more information\, please reach out to Paula at pmason203@gmail.com.
URL:https://www.saintlukesdarien.org/event/monday-night-al-anon-children-52/
CATEGORIES:Outside Groups
END:VEVENT
BEGIN:VEVENT
DTSTART;TZID=America/New_York:20260422T121500
DTEND;TZID=America/New_York:20260422T131500
DTSTAMP:20260424T034550
CREATED:20250613T231158Z
LAST-MODIFIED:20260421T225544Z
UID:162765-1776860100-1776863700@www.saintlukesdarien.org
SUMMARY:Fabulous Women of Wednesday (AA Group)
DESCRIPTION:Weekly AA Meeting. \nFor more information\, please contact Stefini Sherry at stefiniberman68@gmail.com.
URL:https://www.saintlukesdarien.org/event/fabulous-women-of-wednesday-aa-group-45/
LOCATION:Education Building-1-Taylor Room (25)
CATEGORIES:Outside Groups
END:VEVENT
BEGIN:VEVENT
DTSTART;TZID=America/New_York:20260423T170000
DTEND;TZID=America/New_York:20260423T183000
DTSTAMP:20260424T034550
CREATED:20250715T235624Z
LAST-MODIFIED:20260422T225535Z
UID:163848-1776963600-1776969000@www.saintlukesdarien.org
SUMMARY:AA Meeting
DESCRIPTION:Contact: \nJohn Corcoran\n203-561-2624\nContact:\nJane Sullivan\n203-461-1364
URL:https://www.saintlukesdarien.org/event/aa-meeting-82/
LOCATION:Office Building-1-Terrace-B (20)\, Office Building-1-Terrace-A (20)
CATEGORIES:Outside Groups
END:VEVENT
BEGIN:VEVENT
DTSTART;TZID=America/New_York:20260425T093000
DTEND;TZID=America/New_York:20260425T113000
DTSTAMP:20260424T034550
CREATED:20260123T231156Z
LAST-MODIFIED:20260423T232545Z
UID:171188-1777109400-1777116600@www.saintlukesdarien.org
SUMMARY:Al Anon Meeting
DESCRIPTION:For more information\, contact DeeDee Crouch at dmcrouch@gmail.com
URL:https://www.saintlukesdarien.org/event/al-anon-meeting-137/
LOCATION:Office Building-1-Terrace-B (20)\, Office Building-1-Terrace-A (20)
CATEGORIES:Outside Groups
END:VEVENT
BEGIN:VEVENT
DTSTART;TZID=America/New_York:20260427T190000
DTEND;TZID=America/New_York:20260427T210000
DTSTAMP:20260424T034550
CREATED:20260421T225545Z
LAST-MODIFIED:20260423T232545Z
UID:172443-1777316400-1777323600@www.saintlukesdarien.org
SUMMARY:Darien Community Band
DESCRIPTION:Peter Dressler (203 274 0444)
URL:https://www.saintlukesdarien.org/event/darien-community-band-14/
LOCATION:Anderson Youth & Community Center-1-AYCC (50)
CATEGORIES:Outside Groups
END:VEVENT
BEGIN:VEVENT
DTSTART;TZID=America/New_York:20260427T193000
DTEND;TZID=America/New_York:20260427T203000
DTSTAMP:20260424T034550
CREATED:20251124T225625Z
LAST-MODIFIED:20251124T225647Z
UID:170119-1777318200-1777321800@www.saintlukesdarien.org
SUMMARY:Monday Night Al-Anon Children *
DESCRIPTION:For more information\, please reach out to Paula at pmason203@gmail.com.
URL:https://www.saintlukesdarien.org/event/monday-night-al-anon-children-53/
CATEGORIES:Outside Groups
END:VEVENT
BEGIN:VEVENT
DTSTART;TZID=America/New_York:20260429T121500
DTEND;TZID=America/New_York:20260429T131500
DTSTAMP:20260424T034550
CREATED:20250613T231159Z
LAST-MODIFIED:20260423T232545Z
UID:162766-1777464900-1777468500@www.saintlukesdarien.org
SUMMARY:Fabulous Women of Wednesday (AA Group)
DESCRIPTION:Weekly AA Meeting. \nFor more information\, please contact Stefini Sherry at stefiniberman68@gmail.com.
URL:https://www.saintlukesdarien.org/event/fabulous-women-of-wednesday-aa-group-46/
LOCATION:Education Building-1-Taylor Room (25)
CATEGORIES:Outside Groups
END:VEVENT
BEGIN:VEVENT
DTSTART;TZID=America/New_York:20260430T170000
DTEND;TZID=America/New_York:20260430T183000
DTSTAMP:20260424T034550
CREATED:20250715T235625Z
LAST-MODIFIED:20260423T232545Z
UID:163850-1777568400-1777573800@www.saintlukesdarien.org
SUMMARY:AA Meeting
DESCRIPTION:Contact: \nJohn Corcoran\n203-561-2624\nContact:\nJane Sullivan\n203-461-1364
URL:https://www.saintlukesdarien.org/event/aa-meeting-83/
LOCATION:Office Building-1-Terrace-B (20)\, Office Building-1-Terrace-A (20)
CATEGORIES:Outside Groups
END:VEVENT
BEGIN:VEVENT
DTSTART;TZID=America/New_York:20260501T120000
DTEND;TZID=America/New_York:20260501T163000
DTSTAMP:20260424T034550
CREATED:20250422T225550Z
LAST-MODIFIED:20260423T232545Z
UID:161875-1777636800-1777653000@www.saintlukesdarien.org
SUMMARY:Men's Bridge
DESCRIPTION:
URL:https://www.saintlukesdarien.org/event/mens-bridge-52/
LOCATION:Education Building-1-Taylor Room (25)
CATEGORIES:Outside Groups
END:VEVENT
BEGIN:VEVENT
DTSTART;TZID=America/New_York:20260502T093000
DTEND;TZID=America/New_York:20260502T113000
DTSTAMP:20260424T034550
CREATED:20260123T231156Z
LAST-MODIFIED:20260423T232545Z
UID:171189-1777714200-1777721400@www.saintlukesdarien.org
SUMMARY:Al Anon Meeting
DESCRIPTION:For more information\, contact DeeDee Crouch at dmcrouch@gmail.com
URL:https://www.saintlukesdarien.org/event/al-anon-meeting-138/
LOCATION:Office Building-1-Terrace-B (20)\, Office Building-1-Terrace-A (20)
CATEGORIES:Outside Groups
END:VEVENT
BEGIN:VEVENT
DTSTART;TZID=America/New_York:20260504T190000
DTEND;TZID=America/New_York:20260504T210000
DTSTAMP:20260424T034550
CREATED:20260421T225545Z
LAST-MODIFIED:20260423T232546Z
UID:172444-1777921200-1777928400@www.saintlukesdarien.org
SUMMARY:Darien Community Band
DESCRIPTION:Peter Dressler (203 274 0444)
URL:https://www.saintlukesdarien.org/event/darien-community-band-15/
LOCATION:Education Building-1-Parish Hall (200)
CATEGORIES:Outside Groups
END:VEVENT
BEGIN:VEVENT
DTSTART;TZID=America/New_York:20260504T193000
DTEND;TZID=America/New_York:20260504T203000
DTSTAMP:20260424T034550
CREATED:20251124T225625Z
LAST-MODIFIED:20251124T225648Z
UID:170120-1777923000-1777926600@www.saintlukesdarien.org
SUMMARY:Monday Night Al-Anon Children *
DESCRIPTION:For more information\, please reach out to Paula at pmason203@gmail.com.
URL:https://www.saintlukesdarien.org/event/monday-night-al-anon-children-54/
CATEGORIES:Outside Groups
END:VEVENT
BEGIN:VEVENT
DTSTART;TZID=America/New_York:20260506T121500
DTEND;TZID=America/New_York:20260506T131500
DTSTAMP:20260424T034550
CREATED:20250613T231200Z
LAST-MODIFIED:20260423T232546Z
UID:162767-1778069700-1778073300@www.saintlukesdarien.org
SUMMARY:Fabulous Women of Wednesday (AA Group)
DESCRIPTION:Weekly AA Meeting. \nFor more information\, please contact Stefini Sherry at stefiniberman68@gmail.com.
URL:https://www.saintlukesdarien.org/event/fabulous-women-of-wednesday-aa-group-47/
LOCATION:Education Building-1-Taylor Room (25)
CATEGORIES:Outside Groups
END:VEVENT
BEGIN:VEVENT
DTSTART;TZID=America/New_York:20260507T170000
DTEND;TZID=America/New_York:20260507T183000
DTSTAMP:20260424T034550
CREATED:20250715T235628Z
LAST-MODIFIED:20260423T232546Z
UID:163852-1778173200-1778178600@www.saintlukesdarien.org
SUMMARY:AA Meeting
DESCRIPTION:Contact: \nJohn Corcoran\n203-561-2624\nContact:\nJane Sullivan\n203-461-1364
URL:https://www.saintlukesdarien.org/event/aa-meeting-84/
LOCATION:Office Building-1-Terrace-B (20)\, Office Building-1-Terrace-A (20)
CATEGORIES:Outside Groups
END:VEVENT
BEGIN:VEVENT
DTSTART;TZID=America/New_York:20260507T183000
DTEND;TZID=America/New_York:20260507T203000
DTSTAMP:20260424T034550
CREATED:20260416T225929Z
LAST-MODIFIED:20260423T232546Z
UID:172395-1778178600-1778185800@www.saintlukesdarien.org
SUMMARY:Tomorrow's Leaders Today
DESCRIPTION:Laura Pesce-Gray
URL:https://www.saintlukesdarien.org/event/tomorrows-leaders-today/
LOCATION:Anderson Youth & Community Center-1-AYCC (50)
CATEGORIES:Outside Groups
END:VEVENT
BEGIN:VEVENT
DTSTART;TZID=America/New_York:20260509T093000
DTEND;TZID=America/New_York:20260509T113000
DTSTAMP:20260424T034550
CREATED:20260123T231157Z
LAST-MODIFIED:20260423T232546Z
UID:171190-1778319000-1778326200@www.saintlukesdarien.org
SUMMARY:Al Anon Meeting
DESCRIPTION:For more information\, contact DeeDee Crouch at dmcrouch@gmail.com
URL:https://www.saintlukesdarien.org/event/al-anon-meeting-139/
LOCATION:Office Building-1-Terrace-B (20)\, Office Building-1-Terrace-A (20)
CATEGORIES:Outside Groups
END:VEVENT
BEGIN:VEVENT
DTSTART;TZID=America/New_York:20260511T190000
DTEND;TZID=America/New_York:20260511T210000
DTSTAMP:20260424T034550
CREATED:20260421T225546Z
LAST-MODIFIED:20260423T232546Z
UID:172445-1778526000-1778533200@www.saintlukesdarien.org
SUMMARY:Darien Community Band
DESCRIPTION:Peter Dressler (203 274 0444)
URL:https://www.saintlukesdarien.org/event/darien-community-band-16/
LOCATION:Education Building-1-Parish Hall (200)
CATEGORIES:Outside Groups
END:VEVENT
BEGIN:VEVENT
DTSTART;TZID=America/New_York:20260511T193000
DTEND;TZID=America/New_York:20260511T203000
DTSTAMP:20260424T034550
CREATED:20251124T225626Z
LAST-MODIFIED:20251124T225648Z
UID:170121-1778527800-1778531400@www.saintlukesdarien.org
SUMMARY:Monday Night Al-Anon Children *
DESCRIPTION:For more information\, please reach out to Paula at pmason203@gmail.com.
URL:https://www.saintlukesdarien.org/event/monday-night-al-anon-children-55/
CATEGORIES:Outside Groups
END:VEVENT
BEGIN:VEVENT
DTSTART;TZID=America/New_York:20260513T121500
DTEND;TZID=America/New_York:20260513T131500
DTSTAMP:20260424T034550
CREATED:20250613T231201Z
LAST-MODIFIED:20260423T232546Z
UID:162768-1778674500-1778678100@www.saintlukesdarien.org
SUMMARY:Fabulous Women of Wednesday (AA Group)
DESCRIPTION:Weekly AA Meeting. \nFor more information\, please contact Stefini Sherry at stefiniberman68@gmail.com.
URL:https://www.saintlukesdarien.org/event/fabulous-women-of-wednesday-aa-group-48/
LOCATION:Education Building-1-Taylor Room (25)
CATEGORIES:Outside Groups
END:VEVENT
BEGIN:VEVENT
DTSTART;TZID=America/New_York:20260514T170000
DTEND;TZID=America/New_York:20260514T183000
DTSTAMP:20260424T034550
CREATED:20250715T235629Z
LAST-MODIFIED:20260423T232546Z
UID:163854-1778778000-1778783400@www.saintlukesdarien.org
SUMMARY:AA Meeting
DESCRIPTION:Contact: \nJohn Corcoran\n203-561-2624\nContact:\nJane Sullivan\n203-461-1364
URL:https://www.saintlukesdarien.org/event/aa-meeting-85/
LOCATION:Office Building-1-Terrace-B (20)\, Office Building-1-Terrace-A (20)
CATEGORIES:Outside Groups
END:VEVENT
BEGIN:VEVENT
DTSTART;TZID=America/New_York:20260515T120000
DTEND;TZID=America/New_York:20260515T163000
DTSTAMP:20260424T034550
CREATED:20250422T225551Z
LAST-MODIFIED:20260423T232546Z
UID:161876-1778846400-1778862600@www.saintlukesdarien.org
SUMMARY:Men's Bridge
DESCRIPTION:
URL:https://www.saintlukesdarien.org/event/mens-bridge-53/
LOCATION:Education Building-1-Taylor Room (25)
CATEGORIES:Outside Groups
END:VEVENT
BEGIN:VEVENT
DTSTART;TZID=America/New_York:20260516T093000
DTEND;TZID=America/New_York:20260516T113000
DTSTAMP:20260424T034550
CREATED:20260123T231158Z
LAST-MODIFIED:20260423T232546Z
UID:171191-1778923800-1778931000@www.saintlukesdarien.org
SUMMARY:Al Anon Meeting
DESCRIPTION:For more information\, contact DeeDee Crouch at dmcrouch@gmail.com
URL:https://www.saintlukesdarien.org/event/al-anon-meeting-140/
LOCATION:Office Building-1-Terrace-B (20)\, Office Building-1-Terrace-A (20)
CATEGORIES:Outside Groups
END:VEVENT
BEGIN:VEVENT
DTSTART;TZID=America/New_York:20260518T190000
DTEND;TZID=America/New_York:20260518T210000
DTSTAMP:20260424T034550
CREATED:20260421T225546Z
LAST-MODIFIED:20260423T232546Z
UID:172446-1779130800-1779138000@www.saintlukesdarien.org
SUMMARY:Darien Community Band
DESCRIPTION:Peter Dressler (203 274 0444)
URL:https://www.saintlukesdarien.org/event/darien-community-band-17/
LOCATION:Anderson Youth & Community Center-1-AYCC (50)
CATEGORIES:Outside Groups
END:VEVENT
BEGIN:VEVENT
DTSTART;TZID=America/New_York:20260518T193000
DTEND;TZID=America/New_York:20260518T203000
DTSTAMP:20260424T034550
CREATED:20251124T225627Z
LAST-MODIFIED:20251124T225649Z
UID:170122-1779132600-1779136200@www.saintlukesdarien.org
SUMMARY:Monday Night Al-Anon Children *
DESCRIPTION:For more information\, please reach out to Paula at pmason203@gmail.com.
URL:https://www.saintlukesdarien.org/event/monday-night-al-anon-children-56/
CATEGORIES:Outside Groups
END:VEVENT
BEGIN:VEVENT
DTSTART;TZID=America/New_York:20260520T121500
DTEND;TZID=America/New_York:20260520T131500
DTSTAMP:20260424T034550
CREATED:20250613T231201Z
LAST-MODIFIED:20260423T232547Z
UID:162769-1779279300-1779282900@www.saintlukesdarien.org
SUMMARY:Fabulous Women of Wednesday (AA Group)
DESCRIPTION:Weekly AA Meeting. \nFor more information\, please contact Stefini Sherry at stefiniberman68@gmail.com.
URL:https://www.saintlukesdarien.org/event/fabulous-women-of-wednesday-aa-group-49/
LOCATION:Education Building-1-Taylor Room (25)
CATEGORIES:Outside Groups
END:VEVENT
BEGIN:VEVENT
DTSTART;TZID=America/New_York:20260521T170000
DTEND;TZID=America/New_York:20260521T183000
DTSTAMP:20260424T034550
CREATED:20250715T235630Z
LAST-MODIFIED:20260423T232547Z
UID:163856-1779382800-1779388200@www.saintlukesdarien.org
SUMMARY:AA Meeting
DESCRIPTION:Contact: \nJohn Corcoran\n203-561-2624\nContact:\nJane Sullivan\n203-461-1364
URL:https://www.saintlukesdarien.org/event/aa-meeting-86/
LOCATION:Office Building-1-Terrace-B (20)\, Office Building-1-Terrace-A (20)
CATEGORIES:Outside Groups
END:VEVENT
BEGIN:VEVENT
DTSTART;TZID=America/New_York:20260523T093000
DTEND;TZID=America/New_York:20260523T113000
DTSTAMP:20260424T034550
CREATED:20260123T231158Z
LAST-MODIFIED:20260423T232547Z
UID:171192-1779528600-1779535800@www.saintlukesdarien.org
SUMMARY:Al Anon Meeting
DESCRIPTION:For more information\, contact DeeDee Crouch at dmcrouch@gmail.com
URL:https://www.saintlukesdarien.org/event/al-anon-meeting-141/
LOCATION:Office Building-1-Terrace-B (20)\, Office Building-1-Terrace-A (20)
CATEGORIES:Outside Groups
END:VEVENT
BEGIN:VEVENT
DTSTART;TZID=America/New_York:20260525T193000
DTEND;TZID=America/New_York:20260525T203000
DTSTAMP:20260424T034550
CREATED:20251124T225627Z
LAST-MODIFIED:20251124T225649Z
UID:170123-1779737400-1779741000@www.saintlukesdarien.org
SUMMARY:Monday Night Al-Anon Children *
DESCRIPTION:For more information\, please reach out to Paula at pmason203@gmail.com.
URL:https://www.saintlukesdarien.org/event/monday-night-al-anon-children-57/
CATEGORIES:Outside Groups
END:VEVENT
BEGIN:VEVENT
DTSTART;TZID=America/New_York:20260527T121500
DTEND;TZID=America/New_York:20260527T131500
DTSTAMP:20260424T034550
CREATED:20250613T231202Z
LAST-MODIFIED:20260423T232547Z
UID:162770-1779884100-1779887700@www.saintlukesdarien.org
SUMMARY:Fabulous Women of Wednesday (AA Group)
DESCRIPTION:Weekly AA Meeting. \nFor more information\, please contact Stefini Sherry at stefiniberman68@gmail.com.
URL:https://www.saintlukesdarien.org/event/fabulous-women-of-wednesday-aa-group-50/
LOCATION:Education Building-1-Taylor Room (25)
CATEGORIES:Outside Groups
END:VEVENT
END:VCALENDAR