BEGIN:VCALENDAR
VERSION:2.0
PRODID:-//Saint Luke&#039;s Parish - ECPv6.15.20//NONSGML v1.0//EN
CALSCALE:GREGORIAN
METHOD:PUBLISH
X-WR-CALNAME:Saint Luke&#039;s Parish
X-ORIGINAL-URL:https://www.saintlukesdarien.org
X-WR-CALDESC:Events for Saint Luke&#039;s Parish
REFRESH-INTERVAL;VALUE=DURATION:PT1H
X-Robots-Tag:noindex
X-PUBLISHED-TTL:PT1H
BEGIN:VTIMEZONE
TZID:America/New_York
BEGIN:DAYLIGHT
TZOFFSETFROM:-0500
TZOFFSETTO:-0400
TZNAME:EDT
DTSTART:20240310T070000
END:DAYLIGHT
BEGIN:STANDARD
TZOFFSETFROM:-0400
TZOFFSETTO:-0500
TZNAME:EST
DTSTART:20241103T060000
END:STANDARD
BEGIN:DAYLIGHT
TZOFFSETFROM:-0500
TZOFFSETTO:-0400
TZNAME:EDT
DTSTART:20250309T070000
END:DAYLIGHT
BEGIN:STANDARD
TZOFFSETFROM:-0400
TZOFFSETTO:-0500
TZNAME:EST
DTSTART:20251102T060000
END:STANDARD
BEGIN:DAYLIGHT
TZOFFSETFROM:-0500
TZOFFSETTO:-0400
TZNAME:EDT
DTSTART:20260308T070000
END:DAYLIGHT
BEGIN:STANDARD
TZOFFSETFROM:-0400
TZOFFSETTO:-0500
TZNAME:EST
DTSTART:20261101T060000
END:STANDARD
END:VTIMEZONE
BEGIN:VEVENT
DTSTART;VALUE=DATE:20250907
DTEND;VALUE=DATE:20250908
DTSTAMP:20260424T040558
CREATED:20250731T222550Z
LAST-MODIFIED:20250907T231106Z
UID:164213-1757203200-1757289599@www.saintlukesdarien.org
SUMMARY:Homecoming Sunday & Picnic (rain or shine)
DESCRIPTION:Kick off our program year with a parish-wide picnic after the 10am service! \nEnjoy fried chicken\, sides\, dessert\, activities for children\, and of course\, the opportunity to reconnect after a busy summer. \n  \nJoin us for worship as we return to our program year schedule: \nHoly Eucharist at 8am\, 10am with the Choir\, and 5pm CAYA with the CAYA Band. \n  \nOur Sunday morning programming returns as well\, including: \n9am Discovery Hour \n10am Godly Play (3 yrs-K) and \n10am Children’s Chapel (1 grade and up) \nas well as Nursery Care from 7:45-11:15am
URL:https://www.saintlukesdarien.org/event/homecoming-sunday-3/
CATEGORIES:Featured,Parish Life,Worship
ATTACH;FMTTYPE=image/jpeg:https://www.saintlukesdarien.org/wp-content/uploads/2025/07/IMG_6944-2.jpeg
END:VEVENT
END:VCALENDAR