BEGIN:VCALENDAR
VERSION:2.0
PRODID:-//Saint Luke&#039;s Parish - ECPv6.15.20//NONSGML v1.0//EN
CALSCALE:GREGORIAN
METHOD:PUBLISH
X-WR-CALNAME:Saint Luke&#039;s Parish
X-ORIGINAL-URL:https://www.saintlukesdarien.org
X-WR-CALDESC:Events for Saint Luke&#039;s Parish
REFRESH-INTERVAL;VALUE=DURATION:PT1H
X-Robots-Tag:noindex
X-PUBLISHED-TTL:PT1H
BEGIN:VTIMEZONE
TZID:America/New_York
BEGIN:DAYLIGHT
TZOFFSETFROM:-0500
TZOFFSETTO:-0400
TZNAME:EDT
DTSTART:20250309T070000
END:DAYLIGHT
BEGIN:STANDARD
TZOFFSETFROM:-0400
TZOFFSETTO:-0500
TZNAME:EST
DTSTART:20251102T060000
END:STANDARD
BEGIN:DAYLIGHT
TZOFFSETFROM:-0500
TZOFFSETTO:-0400
TZNAME:EDT
DTSTART:20260308T070000
END:DAYLIGHT
BEGIN:STANDARD
TZOFFSETFROM:-0400
TZOFFSETTO:-0500
TZNAME:EST
DTSTART:20261101T060000
END:STANDARD
BEGIN:DAYLIGHT
TZOFFSETFROM:-0500
TZOFFSETTO:-0400
TZNAME:EDT
DTSTART:20270314T070000
END:DAYLIGHT
BEGIN:STANDARD
TZOFFSETFROM:-0400
TZOFFSETTO:-0500
TZNAME:EST
DTSTART:20271107T060000
END:STANDARD
END:VTIMEZONE
BEGIN:VTIMEZONE
TZID:America/New_York
BEGIN:DAYLIGHT
TZOFFSETFROM:-0500
TZOFFSETTO:-0400
TZNAME:EDT
DTSTART:20250309T070000
END:DAYLIGHT
BEGIN:STANDARD
TZOFFSETFROM:-0400
TZOFFSETTO:-0500
TZNAME:EST
DTSTART:20251102T060000
END:STANDARD
BEGIN:DAYLIGHT
TZOFFSETFROM:-0500
TZOFFSETTO:-0400
TZNAME:EDT
DTSTART:20260308T070000
END:DAYLIGHT
BEGIN:STANDARD
TZOFFSETFROM:-0400
TZOFFSETTO:-0500
TZNAME:EST
DTSTART:20261101T060000
END:STANDARD
BEGIN:DAYLIGHT
TZOFFSETFROM:-0500
TZOFFSETTO:-0400
TZNAME:EDT
DTSTART:20270314T070000
END:DAYLIGHT
BEGIN:STANDARD
TZOFFSETFROM:-0400
TZOFFSETTO:-0500
TZNAME:EST
DTSTART:20271107T060000
END:STANDARD
END:VTIMEZONE
BEGIN:VEVENT
DTSTART;TZID=America/New_York:20260409T070000
DTEND;TZID=America/New_York:20260409T080000
DTSTAMP:20260419T111947
CREATED:20250819T225552Z
LAST-MODIFIED:20260408T225553Z
UID:165102-1775718000-1775721600@www.saintlukesdarien.org
SUMMARY:Men's Breakfast
DESCRIPTION:Enjoy breakfast and fellowship at a local restaurant. \nContact Charles Jackson at jackson5redsox@gmail.com
URL:https://www.saintlukesdarien.org/event/mens-breakfast-20/
CATEGORIES:Parish Groups
END:VEVENT
BEGIN:VEVENT
DTSTART;TZID=America/New_York:20260409T080000
DTEND;TZID=America/New_York:20260409T083000
DTSTAMP:20260419T111947
CREATED:20251210T235654Z
LAST-MODIFIED:20260408T222556Z
UID:170409-1775721600-1775723400@www.saintlukesdarien.org
SUMMARY:Morning Prayer
DESCRIPTION:
URL:https://www.saintlukesdarien.org/event/morning-prayer-1174/
LOCATION:Education Building-1-Chapel (100)
CATEGORIES:Worship
END:VEVENT
BEGIN:VEVENT
DTSTART;TZID=America/New_York:20260409T093000
DTEND;TZID=America/New_York:20260409T103000
DTSTAMP:20260419T111947
CREATED:20250728T234155Z
LAST-MODIFIED:20260407T224111Z
UID:164123-1775727000-1775730600@www.saintlukesdarien.org
SUMMARY:SLPS Children's Chapel
DESCRIPTION:
URL:https://www.saintlukesdarien.org/event/slps-childrens-chapel-41/
LOCATION:Education Building-1-Chapel (100)
CATEGORIES:Parish School
END:VEVENT
BEGIN:VEVENT
DTSTART;TZID=America/New_York:20260409T110000
DTEND;TZID=America/New_York:20260409T123000
DTSTAMP:20260419T111947
CREATED:20260331T224136Z
LAST-MODIFIED:20260409T125645Z
UID:172200-1775732400-1775737800@www.saintlukesdarien.org
SUMMARY:Memorial Service for Craig M. Ferguson
DESCRIPTION:We offer our deepest condolences to the family of Craig M. Ferguson. \nTo view the livestream of the memorial service\, please click here. \nTo view the service leaflet for the memorial service\, please click here.
URL:https://www.saintlukesdarien.org/event/memorial-service-for-craig-m-ferguson/
LOCATION:Church-1-Church (400)
CATEGORIES:Special Services
END:VEVENT
BEGIN:VEVENT
DTSTART;TZID=America/New_York:20260409T121500
DTEND;TZID=America/New_York:20260409T134500
DTSTAMP:20260419T111947
CREATED:20260107T222547Z
LAST-MODIFIED:20260408T222552Z
UID:170923-1775736900-1775742300@www.saintlukesdarien.org
SUMMARY:MomsNext
DESCRIPTION:AUDACIOUS FAITH with Wendy Moore What if God is calling us to more than safety and comfort? Perhaps we could all be encouraged to get a little risky\, try new things\, and live with an audacious faith.
URL:https://www.saintlukesdarien.org/event/momsnext-58/
LOCATION:Anderson Youth & Community Center-1-AYCC (50)
CATEGORIES:Adult Programming
END:VEVENT
BEGIN:VEVENT
DTSTART;TZID=America/New_York:20260409T163000
DTEND;TZID=America/New_York:20260409T170000
DTSTAMP:20260419T111947
CREATED:20250819T232601Z
LAST-MODIFIED:20260408T235555Z
UID:165157-1775752200-1775754000@www.saintlukesdarien.org
SUMMARY:Bible Builders
DESCRIPTION:Thursdays from 4:30-5pm\, beginning September 11  \nA fun\, hands-on way to learn a story from the Bible.  For children also in the St. Nicholas Choir\, we will walk them to the choir room for their 5pm practice. 
URL:https://www.saintlukesdarien.org/event/bible-builders-24/
LOCATION:Education Building-3-Great Room (30)
CATEGORIES:Children's Ministries
END:VEVENT
BEGIN:VEVENT
DTSTART;TZID=America/New_York:20260409T170000
DTEND;TZID=America/New_York:20260409T180000
DTSTAMP:20260419T111947
CREATED:20250820T231052Z
LAST-MODIFIED:20260408T234049Z
UID:165420-1775754000-1775757600@www.saintlukesdarien.org
SUMMARY:Community Supper
DESCRIPTION:This year Saint Luke’s celebrates our 20th year of Community Supper – a weekly $1 dinner for parishioners and community members alike.  Beginning September 11\, weekly on Thursdays from 5-6pm. Everyone is welcome for dinner\, and new volunteers are welcome! We especially welcome volunteers of all ages to serve Thursdays from 4:45-6:30pm.  To sign up\, Contact volunteer coordinator\, Jen Kepner at jkepner7@gmail.com. 
URL:https://www.saintlukesdarien.org/event/community-supper-68/
LOCATION:Education Building-1-Kitchen (15)\, Education Building-1-Parish Hall (200)
CATEGORIES:Outreach
END:VEVENT
BEGIN:VEVENT
DTSTART;TZID=America/New_York:20260409T170000
DTEND;TZID=America/New_York:20260409T183000
DTSTAMP:20260419T111947
CREATED:20250715T235623Z
LAST-MODIFIED:20260408T231101Z
UID:163844-1775754000-1775759400@www.saintlukesdarien.org
SUMMARY:AA Meeting
DESCRIPTION:Contact: \nJohn Corcoran\n203-561-2624\nContact:\nJane Sullivan\n203-461-1364
URL:https://www.saintlukesdarien.org/event/aa-meeting-80/
LOCATION:Office Building-1-Terrace-B (20)\, Office Building-1-Terrace-A (20)
CATEGORIES:Outside Groups
END:VEVENT
BEGIN:VEVENT
DTSTART;TZID=America/New_York:20260410T080000
DTEND;TZID=America/New_York:20260410T083000
DTSTAMP:20260419T111947
CREATED:20251210T235654Z
LAST-MODIFIED:20260409T224048Z
UID:170410-1775808000-1775809800@www.saintlukesdarien.org
SUMMARY:Morning Prayer
DESCRIPTION:
URL:https://www.saintlukesdarien.org/event/morning-prayer-1175/
LOCATION:Education Building-1-Chapel (100)
CATEGORIES:Worship
END:VEVENT
BEGIN:VEVENT
DTSTART;TZID=America/New_York:20260410T120000
DTEND;TZID=America/New_York:20260410T163000
DTSTAMP:20260419T111947
CREATED:20250422T225549Z
LAST-MODIFIED:20260409T232548Z
UID:161873-1775822400-1775838600@www.saintlukesdarien.org
SUMMARY:Men's Bridge
DESCRIPTION:
URL:https://www.saintlukesdarien.org/event/mens-bridge-50/
LOCATION:Education Building-1-Taylor Room (25)
CATEGORIES:Outside Groups
END:VEVENT
BEGIN:VEVENT
DTSTART;TZID=America/New_York:20260410T160000
DTEND;TZID=America/New_York:20260410T170000
DTSTAMP:20260419T111947
CREATED:20250728T225555Z
LAST-MODIFIED:20260409T234053Z
UID:164082-1775836800-1775840400@www.saintlukesdarien.org
SUMMARY:Chick Chat - Starbucks
DESCRIPTION:All Middle School girls and non-binary friends are invited to join for conversation and Starbucks. First Starbucks drink or treat is on Saint Luke's. Contact The Rev. Ansley Walker with any questions.
URL:https://www.saintlukesdarien.org/event/chick-chat-starbucks-8/
END:VEVENT
BEGIN:VEVENT
DTSTART;TZID=America/New_York:20260411T093000
DTEND;TZID=America/New_York:20260411T113000
DTSTAMP:20260419T111947
CREATED:20260123T231154Z
LAST-MODIFIED:20260410T232603Z
UID:171186-1775899800-1775907000@www.saintlukesdarien.org
SUMMARY:Al Anon Meeting
DESCRIPTION:For more information\, contact DeeDee Crouch at dmcrouch@gmail.com
URL:https://www.saintlukesdarien.org/event/al-anon-meeting-135/
LOCATION:Office Building-1-Terrace-B (20)\, Office Building-1-Terrace-A (20)
CATEGORIES:Outside Groups
END:VEVENT
BEGIN:VEVENT
DTSTART;TZID=America/New_York:20260411T100000
DTEND;TZID=America/New_York:20260411T120000
DTSTAMP:20260419T111947
CREATED:20260407T225854Z
LAST-MODIFIED:20260410T235704Z
UID:172277-1775901600-1775908800@www.saintlukesdarien.org
SUMMARY:Youth - Work in the Unity Garden
DESCRIPTION:
URL:https://www.saintlukesdarien.org/event/youth-work-in-the-unity-garden/
END:VEVENT
BEGIN:VEVENT
DTSTART;TZID=America/New_York:20260412T080000
DTEND;TZID=America/New_York:20260412T090000
DTSTAMP:20260419T111947
CREATED:20250805T235657Z
LAST-MODIFIED:20260411T225623Z
UID:164514-1775980800-1775984400@www.saintlukesdarien.org
SUMMARY:8AM Worship
DESCRIPTION:
URL:https://www.saintlukesdarien.org/event/8am-worship-333/
LOCATION:Church-1-Church (400)
CATEGORIES:Worship
END:VEVENT
BEGIN:VEVENT
DTSTART;TZID=America/New_York:20260412T090000
DTEND;TZID=America/New_York:20260412T100000
DTSTAMP:20260419T111947
CREATED:20250819T222604Z
LAST-MODIFIED:20260411T231058Z
UID:165059-1775984400-1775988000@www.saintlukesdarien.org
SUMMARY:Discovery Hour
DESCRIPTION:
URL:https://www.saintlukesdarien.org/event/discovery-hour-15/
LOCATION:Education Building-1-Parish Hall (200)
CATEGORIES:Adult Programming
END:VEVENT
BEGIN:VEVENT
DTSTART;TZID=America/New_York:20260412T100000
DTEND;TZID=America/New_York:20260412T103000
DTSTAMP:20260419T111947
CREATED:20250818T231102Z
LAST-MODIFIED:20260411T231056Z
UID:164972-1775988000-1775989800@www.saintlukesdarien.org
SUMMARY:Children's Chapel
DESCRIPTION:Children’s Chapel | Every Sunday from 10am until the Peace \nFor children in grades 1-5\, an age-appropriate Liturgy of the Word\, led by one of the clergy during the first half of the 10am service.  Children join their families at the Peace to receive communion or a blessing.
URL:https://www.saintlukesdarien.org/event/childrens-chapel-129/
LOCATION:Education Building-1-Chapel (100)
CATEGORIES:Children's Ministries
END:VEVENT
BEGIN:VEVENT
DTSTART;TZID=America/New_York:20260412T100000
DTEND;TZID=America/New_York:20260412T110000
DTSTAMP:20260419T111947
CREATED:20250805T235657Z
LAST-MODIFIED:20250818T234228Z
UID:164515-1775988000-1775991600@www.saintlukesdarien.org
SUMMARY:10AM Worship & Baptism
DESCRIPTION:
URL:https://www.saintlukesdarien.org/event/10am-worship-baptism-8/
LOCATION:Church-1-Church (400)
CATEGORIES:Worship
END:VEVENT
BEGIN:VEVENT
DTSTART;TZID=America/New_York:20260412T100000
DTEND;TZID=America/New_York:20260412T110000
DTSTAMP:20260419T111947
CREATED:20250818T231102Z
LAST-MODIFIED:20260411T231056Z
UID:164971-1775988000-1775991600@www.saintlukesdarien.org
SUMMARY:Godly Play
DESCRIPTION:Godly Play | Every Sunday from 10am to the end of worship \nChildren ages 3 through Kindergarten gather for prayers\, singing and a lesson taught as a story\, illustrated with hands-on materials\, followed by “I wonder” questions and time to creatively respond. 
URL:https://www.saintlukesdarien.org/event/godly-play-32/
LOCATION:Education Building-3-Great Room (30)
CATEGORIES:Children's Ministries
END:VEVENT
BEGIN:VEVENT
DTSTART;TZID=America/New_York:20260412T111500
DTEND;TZID=America/New_York:20260412T120000
DTSTAMP:20260419T111947
CREATED:20260326T140148Z
LAST-MODIFIED:20260409T194529Z
UID:172143-1775992500-1775995200@www.saintlukesdarien.org
SUMMARY:Discover Saint Luke's
DESCRIPTION:The first step after attending worship is joining us for Discover Saint Luke’s\, a casual gathering led by a priest to offer information about the parish and a tour of the campus\, answer questions\, and get to know you better. Join us for an upcoming session from 11:15 – 12:00pm in the Taylor Room on one of these dates: \nApril 12\, 2026\nMay 17\, 2026\nJune 14\, 2026\nJuly 12\, 2026 \nIf these times do not work\, all are welcome to set up a meeting with a clergy person at your convenience!
URL:https://www.saintlukesdarien.org/event/discover-saint-lukes-3/
LOCATION:Education Building-1-Taylor Room (25)
CATEGORIES:Adult Programming,Featured
ATTACH;FMTTYPE=image/png:https://www.saintlukesdarien.org/wp-content/uploads/2024/12/Discover-Saint-Lukes.png
END:VEVENT
BEGIN:VEVENT
DTSTART;TZID=America/New_York:20260412T113000
DTEND;TZID=America/New_York:20260412T123000
DTSTAMP:20260419T111947
CREATED:20260407T225854Z
LAST-MODIFIED:20260411T235645Z
UID:172278-1775993400-1775997000@www.saintlukesdarien.org
SUMMARY:Bro Brunch (Youth)
DESCRIPTION:
URL:https://www.saintlukesdarien.org/event/bro-brunch-youth/
LOCATION:Anderson Youth & Community Center-1-Youth Room (50)
END:VEVENT
BEGIN:VEVENT
DTSTART;TZID=America/New_York:20260412T170000
DTEND;TZID=America/New_York:20260412T180000
DTSTAMP:20260419T111947
CREATED:20250819T235622Z
LAST-MODIFIED:20260411T225623Z
UID:165315-1776013200-1776016800@www.saintlukesdarien.org
SUMMARY:CAYA Worship & Baptism
DESCRIPTION:Come as you are to this casual\, contemporary Holy Eucharist service with readings\, a sermon\, and music from the CAYA Band in the Anderson Youth and Community Center (AYCC). Children are always welcome at CAYA\, and there are crayons\, toys and a dedicated play space for them.
URL:https://www.saintlukesdarien.org/event/caya-worship-baptism-2/
LOCATION:Anderson Youth & Community Center-1-AYCC (50)
CATEGORIES:Worship
END:VEVENT
BEGIN:VEVENT
DTSTART;TZID=America/New_York:20260412T180000
DTEND;TZID=America/New_York:20260412T193000
DTSTAMP:20260419T111947
CREATED:20250728T225555Z
LAST-MODIFIED:20260411T235645Z
UID:164083-1776016800-1776022200@www.saintlukesdarien.org
SUMMARY:High School Youth Group
DESCRIPTION:High School Youth Group. Join for food\, fellowship\, faith\, games\, and fun. Friends are always welcome! All grades meet together  on the 2nd Sunday of the month\, and small groups meet on the 4th Sunday of the month. No weekly RSVP/registration needed\, however we ask that all participants of youth events fill out a one-time program year form. Contact The Rev. Ansley Walker with any questions.
URL:https://www.saintlukesdarien.org/event/high-school-youth-group-19/
LOCATION:Anderson Youth & Community Center-1-Youth Room (50)
END:VEVENT
BEGIN:VEVENT
DTSTART;VALUE=DATE:20260413
DTEND;VALUE=DATE:20260418
DTSTAMP:20260419T111947
CREATED:20250630T224053Z
LAST-MODIFIED:20260417T230042Z
UID:163514-1776038400-1776470399@www.saintlukesdarien.org
SUMMARY:SLPS spring break
DESCRIPTION:
URL:https://www.saintlukesdarien.org/event/slps-spring-break-2/
CATEGORIES:Parish School
END:VEVENT
BEGIN:VEVENT
DTSTART;TZID=America/New_York:20260413T080000
DTEND;TZID=America/New_York:20260413T083000
DTSTAMP:20260419T111947
CREATED:20251210T235655Z
LAST-MODIFIED:20260412T225549Z
UID:170411-1776067200-1776069000@www.saintlukesdarien.org
SUMMARY:Morning Prayer
DESCRIPTION:
URL:https://www.saintlukesdarien.org/event/morning-prayer-1176/
LOCATION:Education Building-1-Chapel (100)
CATEGORIES:Worship
END:VEVENT
BEGIN:VEVENT
DTSTART;TZID=America/New_York:20260413T120000
DTEND;TZID=America/New_York:20260413T130000
DTSTAMP:20260419T111947
CREATED:20251215T225551Z
LAST-MODIFIED:20251222T223102Z
UID:170545-1776081600-1776085200@www.saintlukesdarien.org
SUMMARY:Bible Study
DESCRIPTION:
URL:https://www.saintlukesdarien.org/event/bible-study-167/
CATEGORIES:Adult Programming
END:VEVENT
BEGIN:VEVENT
DTSTART;TZID=America/New_York:20260413T150000
DTEND;TZID=America/New_York:20260413T160000
DTSTAMP:20260419T111947
CREATED:20260112T232559Z
LAST-MODIFIED:20260412T235545Z
UID:171005-1776092400-1776096000@www.saintlukesdarien.org
SUMMARY:Moving Forward
DESCRIPTION:Join fellow Saint Luke's parishioners and friends moving forward towards new life\, new experiences\, and new connections after the loss of a spouse. If you know the power and peace of this group\, invite a friend who might need it; if you're new to this stage of life\, be welcomed into a loving\, supportive community.\nFall dates: Sep 22\, Oct 20\, Nov 17 & Dec 15.\nFor more information\, call the parish office or contact susan.wyper@saintlukesdarien.org.
URL:https://www.saintlukesdarien.org/event/moving-forward-25/
LOCATION:Education Building-1-Taylor Room (25)
CATEGORIES:Adult Programming
END:VEVENT
BEGIN:VEVENT
DTSTART;TZID=America/New_York:20260413T180000
DTEND;TZID=America/New_York:20260413T200000
DTSTAMP:20260419T111947
CREATED:20251112T222612Z
LAST-MODIFIED:20260412T235545Z
UID:169903-1776103200-1776110400@www.saintlukesdarien.org
SUMMARY:Holding Dinner
DESCRIPTION:Holding Dinner | Second Monday of each month from 6:30-8pm \nJoin this group of women for fun\, fellowship and delicious pot-luck dinners at Saint Luke’s. Contact Mary Beirne Rewcastle at marybeirne.rewcastle@saintlukesdarien.org
URL:https://www.saintlukesdarien.org/event/holding-dinner-26/
LOCATION:Anderson Youth & Community Center-1-AYCC (50)
CATEGORIES:Adult Programming
END:VEVENT
BEGIN:VEVENT
DTSTART;TZID=America/New_York:20260413T193000
DTEND;TZID=America/New_York:20260413T203000
DTSTAMP:20260419T111947
CREATED:20251124T225623Z
LAST-MODIFIED:20251124T225646Z
UID:170117-1776108600-1776112200@www.saintlukesdarien.org
SUMMARY:Monday Night Al-Anon Children *
DESCRIPTION:For more information\, please reach out to Paula at pmason203@gmail.com.
URL:https://www.saintlukesdarien.org/event/monday-night-al-anon-children-51/
CATEGORIES:Outside Groups
END:VEVENT
BEGIN:VEVENT
DTSTART;TZID=America/New_York:20260414T080000
DTEND;TZID=America/New_York:20260414T083000
DTSTAMP:20260419T111947
CREATED:20251210T235656Z
LAST-MODIFIED:20260413T230202Z
UID:170412-1776153600-1776155400@www.saintlukesdarien.org
SUMMARY:Morning Prayer
DESCRIPTION:
URL:https://www.saintlukesdarien.org/event/morning-prayer-1177/
LOCATION:Education Building-1-Chapel (100)
CATEGORIES:Worship
END:VEVENT
BEGIN:VEVENT
DTSTART;TZID=America/New_York:20260414T180000
DTEND;TZID=America/New_York:20260414T200000
DTSTAMP:20260419T111947
CREATED:20251028T232933Z
LAST-MODIFIED:20260414T225820Z
UID:169711-1776189600-1776196800@www.saintlukesdarien.org
SUMMARY:Darien Men's Association Event
DESCRIPTION:
URL:https://www.saintlukesdarien.org/event/darien-mens-association-event/
LOCATION:Anderson Youth & Community Center-1-AYCC (50)
CATEGORIES:Outside Groups
END:VEVENT
END:VCALENDAR